BEGIN:VCALENDAR
VERSION:2.0
PRODID:-//Squarespace Inc/Squarespace 6//v6//EN
BEGIN:VEVENT
UID:5a02822a71c10ba51bd9578e@squarespace.com
DTSTAMP:20171218T003518Z
DTSTART:20171220T003000Z
DTEND:20171220T030000Z
SUMMARY:GAPP Christmas Lunch
GEO:-33.881389;151.187248
LOCATION:St. John's Anglican Church\, 132 Saint Johns Road\, Glebe\, NSW\, 
 2037\, Australia
END:VEVENT
END:VCALENDAR
