BEGIN:VCALENDAR
VERSION:2.0
PRODID:-//Squarespace Inc/Squarespace 6//v6//EN
BEGIN:VEVENT
UID:5a2f64ff0852293389a1d297@squarespace.com
DTSTAMP:20171212T054449Z
DTSTART:20171216T223000Z
DTEND:20171217T010000Z
SUMMARY:St John's Carols Service! (with baby animals)
GEO:-33.880648;151.187245
LOCATION:St John's Glebe\, 138A Glebe Point Road\, Glebe\, NSW\, 2037\, Aus
 tralia
END:VEVENT
END:VCALENDAR
