BEGIN:VCALENDAR
VERSION:2.0
PRODID:-//Squarespace Inc/Squarespace 6//v6//EN
BEGIN:VEVENT
UID:5a2f4cf3ec212d83c8946c70@squarespace.com
DTSTAMP:20191112T044945Z
DTSTART:20191224T120000Z
DTEND:20191224T130000Z
SUMMARY:Christmas Eve Service
GEO:-33.880648;151.187245
LOCATION:St John's Glebe\, 138A Glebe Point Road\, Glebe\, NSW\, 2037\, Aus
 tralia
END:VEVENT
END:VCALENDAR
