BEGIN:VCALENDAR
VERSION:2.0
PRODID:-//Squarespace Inc/Squarespace 6//v6//EN
BEGIN:VEVENT
UID:5a2f5fad419202b4787ab8f6@squarespace.com
DTSTAMP:20191112T044850Z
DTSTART:20191224T223000Z
DTEND:20191225T003000Z
SUMMARY:Christmas Day Service
END:VEVENT
END:VCALENDAR
