BEGIN:VCALENDAR
VERSION:2.0
PRODID:-//Squarespace Inc/Squarespace 6//v6//EN
BEGIN:VEVENT
UID:5b95d6b6898583259563a2bd@squarespace.com
DTSTAMP:20180910T023545Z
DTSTART:20180930T223000Z
DTEND:20181001T060000Z
SUMMARY:GAPP Closed - Public Holiday
END:VEVENT
END:VCALENDAR
