BEGIN:VCALENDAR
VERSION:2.0
PRODID:-//Squarespace Inc/Squarespace 6//v6//EN
BEGIN:VEVENT
UID:5c8716490d92971c1dffc9c6@squarespace.com
DTSTAMP:20190403T012729Z
DTSTART:20190503T233000Z
DTEND:20190504T043000Z
SUMMARY:Scarred Tree Indigenous Ministries presents - Christianity &amp\; T
 reaty
END:VEVENT
END:VCALENDAR
