BEGIN:VCALENDAR
VERSION:2.0
PRODID:-//Squarespace Inc/Squarespace 6//v6//EN
BEGIN:VEVENT
UID:5bb42ec4a4222fbbca84cc57@squarespace.com
DTSTAMP:20191029T040016Z
DTSTART:20191102T045900Z
DTEND:20191102T075900Z
SUMMARY:Glebe Indigenous Christian Gathering (GIG) 
END:VEVENT
END:VCALENDAR
