BEGIN:VCALENDAR
VERSION:2.0
PRODID:-//Squarespace Inc/Squarespace 6//v6//EN
BEGIN:VEVENT
UID:5be8de6288251b96c32dd9fb@squarespace.com
DTSTAMP:20181112T032817Z
DTSTART:20181217T003000Z
DTEND:20181217T023000Z
SUMMARY:GAPP Christmas Lunch
GEO:-33.881363;151.187251
LOCATION:The St Johns Centre\, 132 St Johns Road\, Glebe 2037\, Australia
END:VEVENT
END:VCALENDAR
