BEGIN:VCALENDAR
VERSION:2.0
PRODID:-//Squarespace Inc/Squarespace 6//v6//EN
BEGIN:VEVENT
UID:5be23b9d352f5398955a0b83@squarespace.com
DTSTAMP:20191112T044454Z
DTSTART:20191214T223000Z
DTEND:20191215T010000Z
SUMMARY:A Very St John's Carols Service
END:VEVENT
END:VCALENDAR
