BEGIN:VCALENDAR
VERSION:2.0
PRODID:-//Squarespace Inc/Squarespace 6//v6//EN
BEGIN:VEVENT
UID:5be23a604fa51ae752c73860@squarespace.com
DTSTAMP:20181107T034949Z
DTSTART:20181201T050000Z
DTEND:20181201T073000Z
SUMMARY:Scarred Tree Presents A Community Christmas Concert
END:VEVENT
END:VCALENDAR
