BEGIN:VCALENDAR
VERSION:2.0
PRODID:-//Squarespace Inc/Squarespace 6//v6//EN
BEGIN:VEVENT
UID:5c0df0f7758d469c148b51ba@squarespace.com
DTSTAMP:20181210T045457Z
DTSTART:20181224T223000Z
DTEND:20181224T233000Z
SUMMARY:Christmas Day Service
END:VEVENT
END:VCALENDAR
