BEGIN:VCALENDAR
VERSION:2.0
PRODID:-//Squarespace Inc/Squarespace 6//v6//EN
BEGIN:VEVENT
UID:5c0df04a70a6ad7e8a486818@squarespace.com
DTSTAMP:20181210T045544Z
DTSTART:20181224T120000Z
DTEND:20181224T130000Z
SUMMARY:Christmas Eve Service
END:VEVENT
END:VCALENDAR
