BEGIN:VCALENDAR
VERSION:2.0
PRODID:-//Squarespace Inc/Squarespace 6//v6//EN
BEGIN:VEVENT
UID:5a77b3978165f51a344eb02f@squarespace.com
DTSTAMP:20200224T033653Z
DTSTART:20200226T083000Z
DTEND:20200226T093000Z
SUMMARY:Ash Wednesday Service
END:VEVENT
END:VCALENDAR
