BEGIN:VCALENDAR
VERSION:2.0
PRODID:-//Squarespace Inc/Squarespace 6//v6//EN
BEGIN:VEVENT
UID:5ba2eb5fc2241be281998420@squarespace.com
DTSTAMP:20180920T003558Z
DTSTART:20180925T220000Z
DTEND:20180925T230000Z
SUMMARY:Morning Prayer ~ Monday & Wednesday
END:VEVENT
END:VCALENDAR
