BEGIN:VCALENDAR
VERSION:2.0
PRODID:-//Squarespace Inc/Squarespace 6//v6//EN
BEGIN:VEVENT
UID:5a77b4c3e4966bf9ce877ed1@squarespace.com
DTSTAMP:20180920T003543Z
DTSTART:20180923T220000Z
DTEND:20180923T230000Z
SUMMARY:Morning Prayer ~ Monday & Wednesday
END:VEVENT
END:VCALENDAR
