BEGIN:VCALENDAR
VERSION:2.0
PRODID:-//Squarespace Inc/Squarespace 6//v6//EN
BEGIN:VEVENT
UID:5a77a725652dea12df31f327@squarespace.com
DTSTAMP:20200224T033549Z
DTSTART:20200225T063000Z
DTEND:20200225T080000Z
SUMMARY:Pancake Tuesday
END:VEVENT
END:VCALENDAR
