BEGIN:VCALENDAR
VERSION:2.0
PRODID:-//Squarespace Inc/Squarespace 6//v6//EN
BEGIN:VEVENT
UID:5abad4b670a6ad9323fd0794@squarespace.com
DTSTAMP:20190417T014810Z
DTSTART:20190418T093000Z
DTEND:20190418T103000Z
SUMMARY:Maundy Thursday Service
END:VEVENT
END:VCALENDAR
