BEGIN:VCALENDAR
VERSION:2.0
PRODID:-//Squarespace Inc/Squarespace 6//v6//EN
BEGIN:VEVENT
UID:5a84d7cd53450a64135948ec@squarespace.com
DTSTAMP:20190415T001423Z
DTSTART:20190418T233000Z
DTEND:20190419T003000Z
SUMMARY:Good Friday Service
END:VEVENT
END:VCALENDAR
