BEGIN:VCALENDAR
VERSION:2.0
PRODID:-//Squarespace Inc/Squarespace 6//v6//EN
BEGIN:VEVENT
UID:5a84d97c652deaeccfe9a1b9@squarespace.com
DTSTAMP:20190417T020807Z
DTSTART:20190420T233000Z
DTEND:20190421T010000Z
SUMMARY:Easter Sunday Service
END:VEVENT
END:VCALENDAR
