BEGIN:VCALENDAR
VERSION:2.0
PRODID:-//Squarespace Inc/Squarespace 6//v6//EN
BEGIN:VEVENT
UID:5ac451e48a922d14960e1fda@squarespace.com
DTSTAMP:20180404T042201Z
DTSTART:20180425T000000Z
DTEND:20180425T070000Z
SUMMARY:GAPP Closed - Anzac Day Public Holiday
END:VEVENT
END:VCALENDAR
