BEGIN:VCALENDAR
VERSION:2.0
PRODID:-//Squarespace Inc/Squarespace 6//v6//EN
BEGIN:VEVENT
UID:5b0b6413aa4a990332086dd1@squarespace.com
DTSTAMP:20180628T020747Z
DTSTART:20180707T233000Z
DTEND:20180708T013000Z
SUMMARY:NAIDOC Sunday
END:VEVENT
END:VCALENDAR
