BEGIN:VCALENDAR
VERSION:2.0
PRODID:-//Squarespace Inc/Squarespace 6//v6//EN
BEGIN:VEVENT
UID:5dca372652ff62287b1c5946@squarespace.com
DTSTAMP:20191112T045056Z
DTSTART:20191215T070000Z
DTEND:20191215T083000Z
SUMMARY:Real Meal + GAPP Christmas Party
END:VEVENT
END:VCALENDAR
