BEGIN:VCALENDAR
VERSION:2.0
PRODID:-//Squarespace Inc/Squarespace 6//v6//EN
BEGIN:VEVENT
UID:5dca315a52ff62287b1bb6ce@squarespace.com
DTSTAMP:20191112T045020Z
DTSTART:20191207T050000Z
DTEND:20191207T080000Z
SUMMARY:Scarred Tree Community Christmas Concert
END:VEVENT
END:VCALENDAR
