BEGIN:VCALENDAR
VERSION:2.0
PRODID:-//Squarespace Inc/Squarespace 6//v6//EN
BEGIN:VEVENT
UID:5d523d10f51e2c00019eb6ad@squarespace.com
DTSTAMP:20190819T043835Z
DTSTART:20190828T010000Z
DTEND:20190828T030000Z
SUMMARY:Threads of Glebe Estate Event
END:VEVENT
END:VCALENDAR
