BEGIN:VCALENDAR
VERSION:2.0
PRODID:-//Squarespace Inc/Squarespace 6//v6//EN
BEGIN:VEVENT
UID:5a6eaa4fc83025f9babe602d@squarespace.com
DTSTAMP:20191029T040041Z
DTSTART:20191117T070000Z
DTEND:20191117T083000Z
SUMMARY:Real Meal
GEO:-33.881389;151.187248
LOCATION:The St Johns Centre\, 132 St Johns Road\, Glebe\, NSW\, 2037\, Aus
 tralia
END:VEVENT
END:VCALENDAR
