BEGIN:VCALENDAR
VERSION:2.0
PRODID:-//Squarespace Inc/Squarespace 6//v6//EN
BEGIN:VEVENT
UID:5a6ea802e2c4832dd2e8dde9@squarespace.com
DTSTAMP:20180129T045959Z
DTSTART:20180204T070000Z
DTEND:20180204T083000Z
SUMMARY:The Real Meal
GEO:-33.881389;151.187248
LOCATION:The St Johns Centre\, 132 Saint Johns Road\, Glebe\, NSW\, 2037\, 
 Australia
END:VEVENT
END:VCALENDAR
