BEGIN:VCALENDAR
VERSION:2.0
PRODID:-//Squarespace Inc/Squarespace 6//v6//EN
BEGIN:VEVENT
UID:5ac454160e2e72d53c216cc8@squarespace.com
DTSTAMP:20180411T054220Z
DTSTART:20180518T233000Z
DTEND:20180520T023000Z
SUMMARY:Staycation 2018
END:VEVENT
END:VCALENDAR
